BEGIN:VCALENDAR
VERSION:2.0
PRODID:-//Plone.org//NONSGML plone.app.event//EN
X-WR-TIMEZONE:US/Pacific
BEGIN:VEVENT
SUMMARY:Leadership Meets Fear: How We Show Up for Ourselves\, and Those We
  Lead When Confronted by Fear - Online Classroom
DTSTART;VALUE=DATE:20250211
DTEND;VALUE=DATE:20250212
DTSTAMP;VALUE=DATE-TIME:20260422T223849Z
UID:63728c5fc86046f3b16cc2366cadf2b3
CATEGORIES:Outdoor Leadership
DESCRIPTION:Online webinar with Dexter Lockhart Eroen on building a positi
 ve relationship with fear in order to become a more confident and competen
 t leader\, and better show up\, connect\, and lead. A Leadership Developme
 nt Series presentation.
LOCATION:Online Classroom
URL:https://www.mountaineers.org/about/vision-leadership/board-of-director
 s/committees/branch-leadership-committee/outdoor-leadership-committee/semi
 nars-clinics/leadership-meets-fear-how-we-show-up-for-ourselves-and-those-
 we-lead-when-confronted-by-fear-online-classroom-1
END:VEVENT
END:VCALENDAR
