BEGIN:VCALENDAR
VERSION:2.0
PRODID:-//Plone.org//NONSGML plone.app.event//EN
X-WR-TIMEZONE:US/Pacific
BEGIN:VEVENT
SUMMARY:Lead Sustainably – Best Practices for Teaching Low-Impact Travel
  in the Backcountry - Online Classroom
DTSTART;VALUE=DATE:20240123
DTEND;VALUE=DATE:20240124
DTSTAMP;VALUE=DATE-TIME:20260422T223338Z
UID:1ac0b333dd9246abb202e8e761ef2098
CATEGORIES:Outdoor Leadership
DESCRIPTION:Online webinar with Meg Carney on making more sustainable and 
 lower-impact choices outdoors. A Leadership Development Series presentatio
 n.
LOCATION:Online Classroom
URL:https://www.mountaineers.org/about/vision-leadership/board-of-director
 s/committees/branch-leadership-committee/outdoor-leadership-committee/semi
 nars-clinics/lead-sustainably-2013-best-practices-for-teaching-low-impact-
 travel-in-the-backcountry-online-classroom
END:VEVENT
END:VCALENDAR
