BEGIN:VCALENDAR
VERSION:2.0
PRODID:-//Plone.org//NONSGML plone.app.event//EN
X-WR-TIMEZONE:US/Pacific
BEGIN:VEVENT
SUMMARY:Keys to Success for Effective Instruction - King County Library Se
 rvice Center
DTSTART;VALUE=DATE:20200518
DTEND;VALUE=DATE:20200519
DTSTAMP;VALUE=DATE-TIME:20260422T233951Z
UID:8039f9513b524e6aba523fb751fde3de
CATEGORIES:Outdoor Leadership
DESCRIPTION:Evening seminar on effective instruction with Joe and Michelle
  Harper Kowalczyk. RESCHEDULED FOR MAY 18.
LOCATION:King County Library Service Center
URL:https://www.mountaineers.org/about/vision-leadership/board-of-director
 s/committees/branch-leadership-committee/outdoor-leadership-committee/semi
 nars-clinics/keys-to-success-for-effective-instruction-king-county-library
 -service-center
END:VEVENT
END:VCALENDAR
