BEGIN:VCALENDAR
VERSION:2.0
PRODID:-//Plone.org//NONSGML plone.app.event//EN
X-WR-TIMEZONE:US/Pacific
BEGIN:VEVENT
SUMMARY:It's not about you\, it's about them: Leadership in guiding\, educ
 ation\, and life - Online Classroom
DTSTART;VALUE=DATE:20211027
DTEND;VALUE=DATE:20211028
DTSTAMP;VALUE=DATE-TIME:20260419T175102Z
UID:5ee09f5f53b34b5b82660ac4ae9edf71
CATEGORIES:Outdoor Leadership
DESCRIPTION:Evening webinar on leading groups to meet their goals with Liz
  Riggs Meder. This session will be online only.
LOCATION:Online Classroom
URL:https://www.mountaineers.org/about/vision-leadership/board-of-director
 s/committees/branch-leadership-committee/outdoor-leadership-committee/semi
 nars-clinics/its-not-about-you-its-about-them-leadership-in-guiding-educat
 ion-and-life-online-classroom-1
END:VEVENT
END:VCALENDAR
