BEGIN:VCALENDAR
VERSION:2.0
PRODID:-//Plone.org//NONSGML plone.app.event//EN
X-WR-TIMEZONE:US/Pacific
BEGIN:VEVENT
SUMMARY:Identity\, Intersectionality\, and Representation in the Outdoors 
 - Online Classroom
DTSTART;VALUE=DATE:20210408
DTEND;VALUE=DATE:20210409
DTSTAMP;VALUE=DATE-TIME:20260422T224312Z
UID:ca43e9dc42c04c5986779c7d589c0b67
CATEGORIES:Outdoor Leadership
DESCRIPTION:"Intermediate" level workshop on the topic of diversity\, equi
 ty\, and inclusion in the outdoors. Facilitated by Running Grass of Three 
 Circles. This session will be online only.
LOCATION:Online Classroom
URL:https://www.mountaineers.org/about/vision-leadership/board-of-director
 s/committees/branch-leadership-committee/outdoor-leadership-committee/semi
 nars-clinics/identity-intersectionality-and-representation-in-the-outdoors
 -online-classroom
END:VEVENT
END:VCALENDAR
