BEGIN:VCALENDAR
VERSION:2.0
PRODID:-//Plone.org//NONSGML plone.app.event//EN
X-WR-TIMEZONE:US/Pacific
BEGIN:VEVENT
SUMMARY:Think Like A Bee - Online Classroom
DTSTART;VALUE=DATE:20260310
DTEND;VALUE=DATE:20260311
DTSTAMP;VALUE=DATE-TIME:20260422T212346Z
UID:4bce96100ecf49809808a41c64f45559
CATEGORIES:Outdoor Leadership
DESCRIPTION:Join Dave Hunter\, founder of Crown Bees and a leading expert 
 on cavity-nesting bees\, for a fascinating look into the world of North Am
 erica’s 3\,600+ native bee species\, how to "think like a bee\," and Cro
 wn Bees' approach to rewilding in this Leadership Development Series webin
 ar.
LOCATION:Online Classroom
URL:https://www.mountaineers.org/about/vision-leadership/board-of-director
 s/committees/branch-leadership-committee/outdoor-leadership-committee/semi
 nars-clinics/how-to-think-like-a-bee-online-classroom
END:VEVENT
END:VCALENDAR
