BEGIN:VCALENDAR
VERSION:2.0
PRODID:-//Plone.org//NONSGML plone.app.event//EN
X-WR-TIMEZONE:US/Pacific
BEGIN:VEVENT
SUMMARY:Group Management & Leadership - Mountaineers Seattle Program Cente
 r
DTSTART;VALUE=DATE:20200223
DTEND;VALUE=DATE:20200224
DTSTAMP;VALUE=DATE-TIME:20260422T234001Z
UID:192c4214008b4005ae412ae95959848a
CATEGORIES:Outdoor Leadership
DESCRIPTION:From pre-trip to post-trip\, learn key components to leading a
  group to success
LOCATION:Mountaineers Seattle Program Center
URL:https://www.mountaineers.org/about/vision-leadership/board-of-director
 s/committees/branch-leadership-committee/outdoor-leadership-committee/semi
 nars-clinics/group-management-leadership-mountaineers-seattle-program-cent
 er
END:VEVENT
END:VCALENDAR
