BEGIN:VCALENDAR
VERSION:2.0
PRODID:-//Plone.org//NONSGML plone.app.event//EN
X-WR-TIMEZONE:US/Pacific
BEGIN:VEVENT
SUMMARY:Demystifying the Art of Group Decision Making - Newport Way Librar
 y
DTSTART;VALUE=DATE:20190516
DTEND;VALUE=DATE:20190517
DTSTAMP;VALUE=DATE-TIME:20260419T175021Z
UID:29445fd4627b4443a7a1365c8ffc15a3
CATEGORIES:Outdoor Leadership
DESCRIPTION:Evening seminar on group decision making with Tom Unger.
LOCATION:Newport Way Library
URL:https://www.mountaineers.org/about/vision-leadership/board-of-director
 s/committees/branch-leadership-committee/outdoor-leadership-committee/semi
 nars-clinics/group-decision-making-newport-way-library
END:VEVENT
END:VCALENDAR
