BEGIN:VCALENDAR
VERSION:2.0
PRODID:-//Plone.org//NONSGML plone.app.event//EN
X-WR-TIMEZONE:US/Pacific
BEGIN:VEVENT
SUMMARY:From Reluctant to Ready: Inspiring Change in Your Participants - O
 nline Classroom
DTSTART;VALUE=DATE:20260421
DTEND;VALUE=DATE:20260422
DTSTAMP;VALUE=DATE-TIME:20260420T130852Z
UID:f299211943864ea2a04ec51ac946ecd8
CATEGORIES:Outdoor Leadership
DESCRIPTION:Learn tools to reduce resistance\, build trust\, and transform
  reluctance into growth on your trips and courses with Courtenay Schurman 
 in this Leadership Development Series webinar.
LOCATION:Online Classroom
URL:https://www.mountaineers.org/about/vision-leadership/board-of-director
 s/committees/branch-leadership-committee/outdoor-leadership-committee/semi
 nars-clinics/from-reluctant-to-ready-inspiring-change-in-your-participants
 -online-classroom
END:VEVENT
END:VCALENDAR
