BEGIN:VCALENDAR
VERSION:2.0
PRODID:-//Plone.org//NONSGML plone.app.event//EN
X-WR-TIMEZONE:US/Pacific
BEGIN:VEVENT
SUMMARY:From Feelings to Action: Communication with Intention - Online Cla
 ssroom
DTSTART;VALUE=DATE:20260401
DTEND;VALUE=DATE:20260402
DTSTAMP;VALUE=DATE-TIME:20260422T211743Z
UID:4aa261c8374d4f4aa290ff2eca49a35c
CATEGORIES:Outdoor Leadership
DESCRIPTION:This Leadership Development Series webinar is designed to help
  you strengthen your ability to communicate with authenticity\, empathy\, 
 and intention as an outdoor leader and beyond.
LOCATION:Online Classroom
URL:https://www.mountaineers.org/about/vision-leadership/board-of-director
 s/committees/branch-leadership-committee/outdoor-leadership-committee/semi
 nars-clinics/from-feeling-to-action-communication-with-intention-online-cl
 assroom
END:VEVENT
END:VCALENDAR
