BEGIN:VCALENDAR
VERSION:2.0
PRODID:-//Plone.org//NONSGML plone.app.event//EN
X-WR-TIMEZONE:US/Pacific
BEGIN:VEVENT
SUMMARY:Feedback that Works: Tools for Leadership Success - Online Classro
 om
DTSTART;VALUE=DATE:20250508
DTEND;VALUE=DATE:20250509
DTSTAMP;VALUE=DATE-TIME:20260422T223036Z
UID:5bc4cfa3a35d417d9a86f0c9144b8011
CATEGORIES:Outdoor Leadership
DESCRIPTION:Online seminar with Courtenay Schurman on implementing effecti
 ve feedback strategies. A Leadership Development Series seminar.
LOCATION:Online Classroom
URL:https://www.mountaineers.org/about/vision-leadership/board-of-director
 s/committees/branch-leadership-committee/outdoor-leadership-committee/semi
 nars-clinics/feedback-that-works-tools-for-leadership-success-online-class
 room
END:VEVENT
END:VCALENDAR
