BEGIN:VCALENDAR
VERSION:2.0
PRODID:-//Plone.org//NONSGML plone.app.event//EN
X-WR-TIMEZONE:US/Pacific
BEGIN:VEVENT
SUMMARY:Do “Natural Leaders” Exist? - Online Classroom
DTSTART;VALUE=DATE:20230425
DTEND;VALUE=DATE:20230426
DTSTAMP;VALUE=DATE-TIME:20260422T223236Z
UID:079ef999c4f64c44ae74824e60f7447e
CATEGORIES:Outdoor Leadership
DESCRIPTION:Online webinar with Amelie Mabbutt and Edward Monrad on the hi
 story of outdoor leadership theory. Part of the of the Leadership Developm
 ent Series.
LOCATION:Online Classroom
URL:https://www.mountaineers.org/about/vision-leadership/board-of-director
 s/committees/branch-leadership-committee/outdoor-leadership-committee/semi
 nars-clinics/do-201cnatural-leaders201d-exist-online-classroom
END:VEVENT
END:VCALENDAR
