BEGIN:VCALENDAR
VERSION:2.0
PRODID:-//Plone.org//NONSGML plone.app.event//EN
X-WR-TIMEZONE:US/Pacific
BEGIN:VEVENT
SUMMARY:Debunking Mental Health Myths - Online Classroom
DTSTART;VALUE=DATE:20251021
DTEND;VALUE=DATE:20251022
DTSTAMP;VALUE=DATE-TIME:20260422T223630Z
UID:996b512d53a74f258680d44b78a1f924
CATEGORIES:Outdoor Leadership
DESCRIPTION:In this Leadership Development Series Seminar Michelle Lange\,
  Psy.D.\, Licensed Clinical Psychologist\, will debunk common mental healt
 h myths and misconceptions\, providing you with knowledge and skills to co
 nfidently and empathically work with program participants who experience c
 ommon mental health challenges.
LOCATION:Online Classroom
URL:https://www.mountaineers.org/about/vision-leadership/board-of-director
 s/committees/branch-leadership-committee/outdoor-leadership-committee/semi
 nars-clinics/debunking-mental-health-myths-online-classroom
END:VEVENT
END:VCALENDAR
