BEGIN:VCALENDAR
VERSION:2.0
PRODID:-//Plone.org//NONSGML plone.app.event//EN
X-WR-TIMEZONE:US/Pacific
BEGIN:VEVENT
SUMMARY:Curriculum and Instruction Support Happy Hour - Online Classroom
DTSTART;VALUE=DATE:20211206
DTEND;VALUE=DATE:20211207
DTSTAMP;VALUE=DATE-TIME:20260422T223120Z
UID:3b55185eb4b548a994bcfaad569d4f40
CATEGORIES:Outdoor Leadership
DESCRIPTION:Monthly remote drop-in opportunity with Ben Brown for support 
 with developing curriculum\, improving instruction\, or to chat about good
  teaching and learning practices.
LOCATION:Online Classroom
URL:https://www.mountaineers.org/about/vision-leadership/board-of-director
 s/committees/branch-leadership-committee/outdoor-leadership-committee/semi
 nars-clinics/curriculum-and-instruction-support-happy-hour-online-classroo
 m
END:VEVENT
END:VCALENDAR
