BEGIN:VCALENDAR
VERSION:2.0
PRODID:-//Plone.org//NONSGML plone.app.event//EN
X-WR-TIMEZONE:US/Pacific
BEGIN:VEVENT
SUMMARY:Curriculum and Instruction Support Happy Hour - Online Classroom
DTSTART;VALUE=DATE:20220307
DTEND;VALUE=DATE:20220308
DTSTAMP;VALUE=DATE-TIME:20260422T223120Z
UID:4af1c7e2310d4bdb868464ad8590a2dc
CATEGORIES:Outdoor Leadership
DESCRIPTION:Monthly remote drop-in opportunity with Ben Brown for support 
 with developing curriculum\, improving instruction\, or to chat about good
  teaching and learning practices.
LOCATION:Online Classroom
URL:https://www.mountaineers.org/about/vision-leadership/board-of-director
 s/committees/branch-leadership-committee/outdoor-leadership-committee/semi
 nars-clinics/curriculum-and-instruction-support-happy-hour-online-classroo
 m-3
END:VEVENT
END:VCALENDAR
