BEGIN:VCALENDAR
VERSION:2.0
PRODID:-//Plone.org//NONSGML plone.app.event//EN
X-WR-TIMEZONE:US/Pacific
BEGIN:VEVENT
SUMMARY:Curriculum and Instruction Support Happy Hour - Online Classroom
DTSTART;VALUE=DATE:20220207
DTEND;VALUE=DATE:20220208
DTSTAMP;VALUE=DATE-TIME:20260422T223056Z
UID:70e99c24d4c5412aa28410e4fb02a9a4
CATEGORIES:Outdoor Leadership
DESCRIPTION:Monthly remote drop-in opportunity with Ben Brown for support 
 with developing curriculum\, improving instruction\, or to chat about good
  teaching and learning practices.
LOCATION:Online Classroom
URL:https://www.mountaineers.org/about/vision-leadership/board-of-director
 s/committees/branch-leadership-committee/outdoor-leadership-committee/semi
 nars-clinics/curriculum-and-instruction-support-happy-hour-online-classroo
 m-2
END:VEVENT
END:VCALENDAR
