BEGIN:VCALENDAR
VERSION:2.0
PRODID:-//Plone.org//NONSGML plone.app.event//EN
X-WR-TIMEZONE:US/Pacific
BEGIN:VEVENT
SUMMARY:Creating Inclusive Outdoor Experiences for Individuals Who Identif
 y as Neurodivergent - Online Classroom
DTSTART;VALUE=DATE:20250403
DTEND;VALUE=DATE:20250404
DTSTAMP;VALUE=DATE-TIME:20260422T223241Z
UID:5cf1291881004247972927d0dd9ada50
CATEGORIES:Outdoor Leadership
DESCRIPTION:Online webinar on how to lead inclusive outdoor activities for
  individuals who identify as neurodivergent with Amy Carlsen. A Leadership
  Development Series presentation.
LOCATION:Online Classroom
URL:https://www.mountaineers.org/about/vision-leadership/board-of-director
 s/committees/branch-leadership-committee/outdoor-leadership-committee/semi
 nars-clinics/creating-inclusive-outdoor-experiences-for-individuals-who-id
 entify-as-neurodivergent-online-classroom
END:VEVENT
END:VCALENDAR
