BEGIN:VCALENDAR
VERSION:2.0
PRODID:-//Plone.org//NONSGML plone.app.event//EN
X-WR-TIMEZONE:US/Pacific
BEGIN:VEVENT
SUMMARY:Risk Management Discussions - Online Classroom
DTSTART;VALUE=DATE:20220119
DTEND;VALUE=DATE:20220120
DTSTAMP;VALUE=DATE-TIME:20260422T222939Z
UID:66f71bf5247249808a0f3b826a040fa6
CATEGORIES:Outdoor Leadership
DESCRIPTION:Evening webinar workshop about Practical Risk Management with 
 Tom Unger. This session will be online only.
LOCATION:Online Classroom
URL:https://www.mountaineers.org/about/vision-leadership/board-of-director
 s/committees/branch-leadership-committee/outdoor-leadership-committee/semi
 nars-clinics/copy_of_risk-management-discussions-online-classroom
END:VEVENT
END:VCALENDAR
