BEGIN:VCALENDAR
VERSION:2.0
PRODID:-//Plone.org//NONSGML plone.app.event//EN
X-WR-TIMEZONE:US/Pacific
BEGIN:VEVENT
SUMMARY:Risk Management Discussions - Online Classroom
DTSTART;VALUE=DATE:20220202
DTEND;VALUE=DATE:20220203
DTSTAMP;VALUE=DATE-TIME:20260422T222919Z
UID:93ab4a7844ba4f0083d58423108d60db
CATEGORIES:Outdoor Leadership
DESCRIPTION:An intimate evening webinar workshop and discussion about Prac
 tical Risk Management with Tom Unger. This session will be online only.
LOCATION:Online Classroom
URL:https://www.mountaineers.org/about/vision-leadership/board-of-director
 s/committees/branch-leadership-committee/outdoor-leadership-committee/semi
 nars-clinics/copy2_of_risk-management-discussions-online-classroom
END:VEVENT
END:VCALENDAR
