BEGIN:VCALENDAR
VERSION:2.0
PRODID:-//Plone.org//NONSGML plone.app.event//EN
X-WR-TIMEZONE:US/Pacific
BEGIN:VEVENT
SUMMARY:Challenging the ‘Single Story’ of the Outdoors\, Conservation\
 , and Recreation - Online Classroom
DTSTART;VALUE=DATE:20201028
DTEND;VALUE=DATE:20201029
DTSTAMP;VALUE=DATE-TIME:20260422T234418Z
UID:8ef14d3c16bc4f348cd9a98e6193e72a
CATEGORIES:Outdoor Leadership
DESCRIPTION:Evening webinar on disrupting the 'single story' of the outdoo
 rs to create belonging. Facilitated by Running Grass of Three Circles. Thi
 s session will be online only.
LOCATION:Online Classroom
URL:https://www.mountaineers.org/about/vision-leadership/board-of-director
 s/committees/branch-leadership-committee/outdoor-leadership-committee/semi
 nars-clinics/challenging-the-2018single-story2019-of-the-outdoors-conserva
 tion-and-recreation-online-classroom
END:VEVENT
END:VCALENDAR
