BEGIN:VCALENDAR
VERSION:2.0
PRODID:-//Plone.org//NONSGML plone.app.event//EN
X-WR-TIMEZONE:US/Pacific
BEGIN:VEVENT
SUMMARY:Building Compatible Groups - Online Classroom
DTSTART;VALUE=DATE:20201110
DTEND;VALUE=DATE:20201111
DTSTAMP;VALUE=DATE-TIME:20260422T233618Z
UID:958efc6600f54f4e94885d8d5f0bc14a
CATEGORIES:Outdoor Leadership
DESCRIPTION:Evening webinar on building compatible groups with Tom Unger. 
 This session will be online only.
LOCATION:Online Classroom
URL:https://www.mountaineers.org/about/vision-leadership/board-of-director
 s/committees/branch-leadership-committee/outdoor-leadership-committee/semi
 nars-clinics/building-compatible-groups-online-classroom
END:VEVENT
END:VCALENDAR
