BEGIN:VCALENDAR
VERSION:2.0
PRODID:-//Plone.org//NONSGML plone.app.event//EN
X-WR-TIMEZONE:US/Pacific
BEGIN:VEVENT
SUMMARY:Is the Scene *Really* Safe? Addressing Psychological Safety - Onli
 ne Classroom
DTSTART;VALUE=DATE:20201026
DTEND;VALUE=DATE:20201027
DTSTAMP;VALUE=DATE-TIME:20260422T233951Z
UID:d2a63f8f7d4c4d7992dfae210cfb1512
CATEGORIES:Outdoor Leadership
DESCRIPTION:Evening webinar on confronting complacency\, assumptions\, and
  communication breakdowns in the outdoors with Katja Hurt. This session wi
 ll be online only.
LOCATION:Online Classroom
URL:https://www.mountaineers.org/about/vision-leadership/board-of-director
 s/committees/branch-leadership-committee/outdoor-leadership-committee/semi
 nars-clinics/breaking-the-halo-lessons-in-leadership-from-outdoor-educatio
 n-online-classroom-1
END:VEVENT
END:VCALENDAR
