BEGIN:VCALENDAR
VERSION:2.0
PRODID:-//Plone.org//NONSGML plone.app.event//EN
X-WR-TIMEZONE:US/Pacific
BEGIN:VEVENT
SUMMARY:Is the Scene *Really* Safe? Addressing Psychological Safety - Moun
 taineers Kitsap Program Center
DTSTART;VALUE=DATE:20200326
DTEND;VALUE=DATE:20200327
DTSTAMP;VALUE=DATE-TIME:20260422T233945Z
UID:5423a36940024728acaed136f89c52fb
CATEGORIES:Outdoor Leadership
DESCRIPTION:This seminar was canceled because of the COVID-19 Response gui
 dance issued on 3/16/20. We hope to reschedule for later in the spring or 
 summer\, details will be sent to participants as they are finalized.
LOCATION:Mountaineers Kitsap Program Center
URL:https://www.mountaineers.org/about/vision-leadership/board-of-director
 s/committees/branch-leadership-committee/outdoor-leadership-committee/semi
 nars-clinics/breaking-the-halo-lessons-in-leadership-from-outdoor-educatio
 n-mountaineers-kitsap-program-center
END:VEVENT
END:VCALENDAR
