BEGIN:VCALENDAR
VERSION:2.0
PRODID:-//Plone.org//NONSGML plone.app.event//EN
X-WR-TIMEZONE:US/Pacific
BEGIN:VEVENT
SUMMARY:Moving Beyond Tolerance - Online Classroom
DTSTART;VALUE=DATE:20201207
DTEND;VALUE=DATE:20201208
DTSTAMP;VALUE=DATE-TIME:20260422T233524Z
UID:524fc46b3ce24362895fbca3c351a3f0
CATEGORIES:Outdoor Leadership
DESCRIPTION:Evening webinar on moving beyond tolerance to create belonging
  with Katja Hurt. This session will be online only.
LOCATION:Online Classroom
URL:https://www.mountaineers.org/about/vision-leadership/board-of-director
 s/committees/branch-leadership-committee/outdoor-leadership-committee/semi
 nars-clinics/beyond-tolerance-online-classroom
END:VEVENT
END:VCALENDAR
