BEGIN:VCALENDAR
VERSION:2.0
PRODID:-//Plone.org//NONSGML plone.app.event//EN
X-WR-TIMEZONE:US/Pacific
BEGIN:VEVENT
SUMMARY:Moving Beyond Tolerance - Online Classroom
DTSTART;VALUE=DATE:20210208
DTEND;VALUE=DATE:20210209
DTSTAMP;VALUE=DATE-TIME:20260422T223154Z
UID:cdb99fa4b23f4b00803bccd7bdd042d7
CATEGORIES:Outdoor Leadership
DESCRIPTION:An introductory webinar on moving beyond tolerance to create b
 elonging with Katja Hurt. This session will be online only.
LOCATION:Online Classroom
URL:https://www.mountaineers.org/about/vision-leadership/board-of-director
 s/committees/branch-leadership-committee/outdoor-leadership-committee/semi
 nars-clinics/beyond-tolerance-online-classroom-2021-02-08
END:VEVENT
END:VCALENDAR
