BEGIN:VCALENDAR
VERSION:2.0
PRODID:-//Plone.org//NONSGML plone.app.event//EN
X-WR-TIMEZONE:US/Pacific
BEGIN:VEVENT
SUMMARY:Moving Beyond Tolerance - Online Classroom
DTSTART;VALUE=DATE:20201214
DTEND;VALUE=DATE:20201215
DTSTAMP;VALUE=DATE-TIME:20260422T223128Z
UID:1e1edf7e78b14941a47969ee640f4392
CATEGORIES:Outdoor Leadership
DESCRIPTION:Evening webinar on moving beyond tolerance to create belonging
  with Katja Hurt. This session will be online only.
LOCATION:Online Classroom
URL:https://www.mountaineers.org/about/vision-leadership/board-of-director
 s/committees/branch-leadership-committee/outdoor-leadership-committee/semi
 nars-clinics/beyond-tolerance-online-classroom-2020-12-14
END:VEVENT
END:VCALENDAR
