BEGIN:VCALENDAR
VERSION:2.0
PRODID:-//Plone.org//NONSGML plone.app.event//EN
X-WR-TIMEZONE:US/Pacific
BEGIN:VEVENT
SUMMARY:Moving Beyond Tolerance - Online Classroom
DTSTART;VALUE=DATE:20210111
DTEND;VALUE=DATE:20210112
DTSTAMP;VALUE=DATE-TIME:20260422T223517Z
UID:7a8a49f797724d43b03dc19f2f7744ff
CATEGORIES:Outdoor Leadership
DESCRIPTION:An introductory webinar on moving beyond tolerance to create b
 elonging with Katja Hurt. This session will be online only.
LOCATION:Online Classroom
URL:https://www.mountaineers.org/about/vision-leadership/board-of-director
 s/committees/branch-leadership-committee/outdoor-leadership-committee/semi
 nars-clinics/beyond-tolerance-online-classroom-2020-12-14-2021-01-11
END:VEVENT
END:VCALENDAR
