BEGIN:VCALENDAR
VERSION:2.0
PRODID:-//Plone.org//NONSGML plone.app.event//EN
X-WR-TIMEZONE:US/Pacific
BEGIN:VEVENT
SUMMARY:Anaphylaxis in the Backcountry - Online Classroom
DTSTART;VALUE=DATE:20210407
DTEND;VALUE=DATE:20210408
DTSTAMP;VALUE=DATE-TIME:20260422T223220Z
UID:574a87ada5aa463b91e90691bde1867e
CATEGORIES:Outdoor Leadership
DESCRIPTION:Evening webinar on anaphylaxis in the backcountry with Chris C
 aviezel. This session will be online only and is intended to be a deeper d
 ive into medical care for Mountaineers with a baseline medical training.
LOCATION:Online Classroom
URL:https://www.mountaineers.org/about/vision-leadership/board-of-director
 s/committees/branch-leadership-committee/outdoor-leadership-committee/semi
 nars-clinics/anaphylaxis-in-the-backcountry-online-classroom
END:VEVENT
END:VCALENDAR
