BEGIN:VCALENDAR
VERSION:2.0
PRODID:-//Plone.org//NONSGML plone.app.event//EN
X-WR-TIMEZONE:US/Pacific
BEGIN:VEVENT
SUMMARY:Webinar 1: Interactive & Responsive Facilitation - Online Classroo
 m
DTSTART;VALUE=DATE:20211116
DTEND;VALUE=DATE:20211117
DTSTAMP;VALUE=DATE-TIME:20260422T222827Z
UID:929f6e9bd9654beaa1bc42368394b4eb
CATEGORIES:Outdoor Leadership
DESCRIPTION:Evening two-part webinar series\, participants will learn to i
 mprove their group facilitation with Tracy Rekart. This session will be on
 line only.
LOCATION:Online Classroom
URL:https://www.mountaineers.org/about/vision-leadership/board-of-director
 s/committees/branch-leadership-committee/outdoor-leadership-committee/cour
 se-templates/interactive-responsive-facilitation/activities/webinar-1-inte
 ractive-responsive-facilitation-online-classroom-1
END:VEVENT
END:VCALENDAR
