BEGIN:VCALENDAR
VERSION:2.0
PRODID:-//Plone.org//NONSGML plone.app.event//EN
X-WR-TIMEZONE:US/Pacific
BEGIN:VEVENT
SUMMARY:Human Ecosystems & Resilience Triage Part 2 - Online Classroom
DTSTART;VALUE=DATE:20250122
DTEND;VALUE=DATE:20250123
DTSTAMP;VALUE=DATE-TIME:20260422T223630Z
UID:bea928ecf711446e82c813ae84b7a0d1
CATEGORIES:Outdoor Leadership
DESCRIPTION:Online webinar series on how to navigate human ecosystems and 
 build resilience with Lorca Smetana. Leadership Development Series present
 ations.
LOCATION:Online Classroom
URL:https://www.mountaineers.org/about/vision-leadership/board-of-director
 s/committees/branch-leadership-committee/outdoor-leadership-committee/cour
 se-templates/human-ecosystems-resilience-triage-the-mountaineers/activitie
 s/human-ecosystems-resilience-triage-part-2-online-classroom
END:VEVENT
END:VCALENDAR
