BEGIN:VCALENDAR
VERSION:2.0
PRODID:-//Plone.org//NONSGML plone.app.event//EN
X-WR-TIMEZONE:US/Pacific
BEGIN:VEVENT
SUMMARY:Human Ecosystems & Resilience Triage Part 1 - Online Classroom
DTSTART;VALUE=DATE:20241024
DTEND;VALUE=DATE:20241025
DTSTAMP;VALUE=DATE-TIME:20260422T223635Z
UID:b9077c03593049e1a6b2d1c4a3c242c8
CATEGORIES:Outdoor Leadership
DESCRIPTION:Online webinar on how to navigate human ecosystems and build r
 esilience with Lorca Smetana. A Leadership Development Series presentation
 .
LOCATION:Online Classroom
URL:https://www.mountaineers.org/about/vision-leadership/board-of-director
 s/committees/branch-leadership-committee/outdoor-leadership-committee/cour
 se-templates/human-ecosystems-resilience-triage-the-mountaineers/activitie
 s/human-ecosystems-resilience-triage-part-1-online-classroom
END:VEVENT
END:VCALENDAR
